BEGIN:VCALENDAR
X-LOTUS-CHARSET:UTF-8
VERSION:2.0
PRODID:ZMS-Berlin
METHOD:PUBLISH
BEGIN:VEVENT
UID:zukunft-aus-brandenburg-733
CLASS:PUBLIC
DTSTAMP:20260421T174141
DTSTART;TZID=Europe/Berlin:2026-05-05T14:00:00
DTEND;TZID=Europe/Berlin:2026-05-05T14:00:00
LOCATION:Vetschauer Str. 12, 03048, Cottbus, DE, Radisson Blu Kongresshotel,
SUMMARY:iCampµs Conference Cottbus | iCCC2026 
DESCRIPTION:Die zweite iCampµs-Cottbus Conference iCCC2026 vom 05. bis 07. Mai 2026 steht in den Startlöchern.

END:VEVENT
END:VCALENDAR
