BEGIN:VCALENDAR
X-LOTUS-CHARSET:UTF-8
VERSION:2.0
PRODID:ZMS-Berlin
METHOD:PUBLISH
BEGIN:VEVENT
UID:zukunft-aus-brandenburg-2145
CLASS:PUBLIC
DTSTAMP:20260422T134657
DTSTART;TZID=Europe/Berlin:2026-06-02T08:00:00
DTEND;TZID=Europe/Berlin:2026-06-02T08:00:00
LOCATION:Karl-Liebknecht-Str. 24-25, 14476, Potsdam, DE, Universität Potsdam, Campus Golm, Haus 29,
SUMMARY:Wissenschaft trifft Wirtschaft - Von KI bis Life Science
DESCRIPTION:Eine von Potsdam Transfer, der Präsenzstelle und dem Life Science Cluster Hennigsdorf organisierte Veranstaltung an der Universität Potsdam vernetzt Forschung und Praxis durch kurze Fachimpulse, Laborführungen und Austauschmöglichkeiten.

END:VEVENT
END:VCALENDAR
