BEGIN:VCALENDAR
X-LOTUS-CHARSET:UTF-8
VERSION:2.0
PRODID:ZMS-Berlin
METHOD:PUBLISH
BEGIN:VEVENT
UID:zukunft-aus-brandenburg-1585
CLASS:PUBLIC
DTSTAMP:20260421T201601
DTSTART;TZID=Europe/Berlin:2026-04-05T22:00:00
DTEND;TZID=Europe/Berlin:2026-04-05T22:00:00
LOCATION:Dubai, Vereinigte Arabische Emirate , AE,
SUMMARY:Clustervermarktungsreise Vereinigte Arabische Emirate - Dubai
DESCRIPTION:Clustervermarktungsreise

END:VEVENT
END:VCALENDAR
