BEGIN:VCALENDAR
X-LOTUS-CHARSET:UTF-8
VERSION:2.0
PRODID:ZMS-Berlin
METHOD:PUBLISH
BEGIN:VEVENT
UID:zukunft-aus-brandenburg-1519
CLASS:PUBLIC
DTSTAMP:20260421T201103
DTSTART;TZID=Europe/Berlin:2025-11-12T15:00:00
DTEND;TZID=Europe/Berlin:2025-11-12T15:00:00
LOCATION:
SUMMARY:Wann mit einem Sicherheitsmanagement auch ein Sicherheitskonzept vorliegt
DESCRIPTION:Das IT-Sicherheitsnetzwerk Berlin-Brandenburg it’s.BB e.V.&nbsp;lädt zu seinem Awareness-Webinar mit dem Titel&nbsp;„Wann mit einem Sicherheitsmanagement auch ein Sicherheitskonzept vorliegt" ein.

Wann mit einem Sicherheitsmanagement auch ein Sicherheitskonzept vorliegt“ einladen. Im Vortrag werden die zentralen Managementdisziplinen eines Informationssicherheitsmanagementsystems (ISMS) sowie die Abgrenzung und Verbindung zu Sicherheitskonzepten praxisnah erläutert. Anhand konkreter Beispiele und bewährter Methoden wird aufgezeigt, wie Sicherheitskonzepte zielgerichtet entwickelt werden können – und welchen strategischen Mehrwert diese für Organisationen bieten.

&nbsp;

Das Seminar wird in Zusammenarbeit mit der IHK Berlin organisiert. In der Anlage finden Sie die Agenda.

&nbsp;

Das Webinar findet

am Mittwoch, den 12. November 2025 

von 16:00 bis 17:00 Uhr statt.

Gerne kann die Einladung innerhalb Ihrer Netzwerke und an Interessenten weiterkommuniziert werden.

&nbsp;

Zur Teilnahme folgen Sie einfach dem folgenden Link: https://www.eventbrite.de/e/wann-mit-einem-sicherheitsmanagement-auch-ein-sicherheitskonzept-vorliegt-tickets-1787225301989?aff=oddtdtcreator

END:VEVENT
END:VCALENDAR
